BEGIN:VCALENDAR
VERSION:2.0
PRODID:-//Autisme Paimpol - ECPv6.15.20//NONSGML v1.0//EN
CALSCALE:GREGORIAN
METHOD:PUBLISH
X-WR-CALNAME:Autisme Paimpol
X-ORIGINAL-URL:https://www.autismepaimpol.fr
X-WR-CALDESC:Évènements pour Autisme Paimpol
REFRESH-INTERVAL;VALUE=DURATION:PT1H
X-Robots-Tag:noindex
X-PUBLISHED-TTL:PT1H
BEGIN:VTIMEZONE
TZID:Europe/Paris
BEGIN:DAYLIGHT
TZOFFSETFROM:+0100
TZOFFSETTO:+0200
TZNAME:CEST
DTSTART:20250330T010000
END:DAYLIGHT
BEGIN:STANDARD
TZOFFSETFROM:+0200
TZOFFSETTO:+0100
TZNAME:CET
DTSTART:20251026T010000
END:STANDARD
BEGIN:DAYLIGHT
TZOFFSETFROM:+0100
TZOFFSETTO:+0200
TZNAME:CEST
DTSTART:20260329T010000
END:DAYLIGHT
BEGIN:STANDARD
TZOFFSETFROM:+0200
TZOFFSETTO:+0100
TZNAME:CET
DTSTART:20261025T010000
END:STANDARD
BEGIN:DAYLIGHT
TZOFFSETFROM:+0100
TZOFFSETTO:+0200
TZNAME:CEST
DTSTART:20270328T010000
END:DAYLIGHT
BEGIN:STANDARD
TZOFFSETFROM:+0200
TZOFFSETTO:+0100
TZNAME:CET
DTSTART:20271031T010000
END:STANDARD
END:VTIMEZONE
BEGIN:VEVENT
DTSTART;TZID=Europe/Paris:20260516T133000
DTEND;TZID=Europe/Paris:20260516T150000
DTSTAMP:20260423T193321
CREATED:20260330T153411Z
LAST-MODIFIED:20260330T155332Z
UID:1361-1778938200-1778943600@www.autismepaimpol.fr
SUMMARY:Séance de golf
DESCRIPTION:Une initiation au golf est offerte aux adhérents de l’association. C’est Émilie BESNOUX – BEES 1er degré – qui effectue l’initiation pendant 1h30.Le matériel est fourni. Il faut s’inscrire avant.
URL:https://www.autismepaimpol.fr/event/seance-de-golf-2/
LOCATION:Golf de Boisgelin\, Domaine de Boisgelin\,\, Pléhédel\, 22290\, France
CATEGORIES:Evènement
END:VEVENT
BEGIN:VEVENT
DTSTART;TZID=Europe/Paris:20260522T193000
DTEND;TZID=Europe/Paris:20260522T210000
DTSTAMP:20260423T193321
CREATED:20260331T190859Z
LAST-MODIFIED:20260331T190900Z
UID:1403-1779478200-1779483600@www.autismepaimpol.fr
SUMMARY:Café Rencontre
DESCRIPTION:Pas de thème particulier pour ce café rencontre. \n\n\n\nToujours un temps d’échange ouvert à tous\, pendant lequel les familles et personnes autistes peuvent exprimer les problématiques rencontrées\, échanger des astuces ou partager leurs expériences\, discuter de l’actualité liée à l’autisme.
URL:https://www.autismepaimpol.fr/event/cafe-rencontre-2/
LOCATION:Lieu à définir\, Nous n’avons pas de local attitré.\, Veuillez consulter le site quelques jours auparavant pour connaitre l'endroit où se tiendra le café-rencontre
CATEGORIES:Evènement
ATTACH;FMTTYPE=image/png:https://www.autismepaimpol.fr/wp-content/uploads/2026/03/Capture-decran-2026-03-29-205255-1.png
END:VEVENT
END:VCALENDAR