BEGIN:VCALENDAR
VERSION:2.0
PRODID:-//Autisme Paimpol - ECPv6.15.20//NONSGML v1.0//EN
CALSCALE:GREGORIAN
METHOD:PUBLISH
X-ORIGINAL-URL:https://www.autismepaimpol.fr
X-WR-CALDESC:Évènements pour Autisme Paimpol
REFRESH-INTERVAL;VALUE=DURATION:PT1H
X-Robots-Tag:noindex
X-PUBLISHED-TTL:PT1H
BEGIN:VTIMEZONE
TZID:Europe/Paris
BEGIN:DAYLIGHT
TZOFFSETFROM:+0100
TZOFFSETTO:+0200
TZNAME:CEST
DTSTART:20250330T010000
END:DAYLIGHT
BEGIN:STANDARD
TZOFFSETFROM:+0200
TZOFFSETTO:+0100
TZNAME:CET
DTSTART:20251026T010000
END:STANDARD
BEGIN:DAYLIGHT
TZOFFSETFROM:+0100
TZOFFSETTO:+0200
TZNAME:CEST
DTSTART:20260329T010000
END:DAYLIGHT
BEGIN:STANDARD
TZOFFSETFROM:+0200
TZOFFSETTO:+0100
TZNAME:CET
DTSTART:20261025T010000
END:STANDARD
BEGIN:DAYLIGHT
TZOFFSETFROM:+0100
TZOFFSETTO:+0200
TZNAME:CEST
DTSTART:20270328T010000
END:DAYLIGHT
BEGIN:STANDARD
TZOFFSETFROM:+0200
TZOFFSETTO:+0100
TZNAME:CET
DTSTART:20271031T010000
END:STANDARD
END:VTIMEZONE
BEGIN:VEVENT
DTSTART;TZID=Europe/Paris:20260606T133000
DTEND;TZID=Europe/Paris:20260606T150000
DTSTAMP:20260423T204600
CREATED:20260330T153842Z
LAST-MODIFIED:20260330T155645Z
UID:1363-1780752600-1780758000@www.autismepaimpol.fr
SUMMARY:Séance de golf
DESCRIPTION:Une initiation au golf est offerte aux adhérents de l’association. C’est Émilie BESNOUX – BEES 1er degré – qui effectue l’initiation pendant 1h30.Le matériel est fourni. Il faut s’inscrire avant.
URL:https://www.autismepaimpol.fr/event/seance-de-golf-3/
LOCATION:Golf de Boisgelin\, Domaine de Boisgelin\,\, Pléhédel\, 22290\, France
CATEGORIES:Evènement
END:VEVENT
END:VCALENDAR